BEGIN:VCALENDAR
VERSION:2.0
PRODID:-//Music for Humanity - ECPv6.15.20//NONSGML v1.0//EN
CALSCALE:GREGORIAN
METHOD:PUBLISH
X-ORIGINAL-URL:https://musicforhumanity.org
X-WR-CALDESC:Events for Music for Humanity
REFRESH-INTERVAL;VALUE=DURATION:PT1H
X-Robots-Tag:noindex
X-PUBLISHED-TTL:PT1H
BEGIN:VTIMEZONE
TZID:America/New_York
BEGIN:DAYLIGHT
TZOFFSETFROM:-0500
TZOFFSETTO:-0400
TZNAME:EDT
DTSTART:20200308T070000
END:DAYLIGHT
BEGIN:STANDARD
TZOFFSETFROM:-0400
TZOFFSETTO:-0500
TZNAME:EST
DTSTART:20201101T060000
END:STANDARD
BEGIN:DAYLIGHT
TZOFFSETFROM:-0500
TZOFFSETTO:-0400
TZNAME:EDT
DTSTART:20210314T070000
END:DAYLIGHT
BEGIN:STANDARD
TZOFFSETFROM:-0400
TZOFFSETTO:-0500
TZNAME:EST
DTSTART:20211107T060000
END:STANDARD
BEGIN:DAYLIGHT
TZOFFSETFROM:-0500
TZOFFSETTO:-0400
TZNAME:EDT
DTSTART:20220313T070000
END:DAYLIGHT
BEGIN:STANDARD
TZOFFSETFROM:-0400
TZOFFSETTO:-0500
TZNAME:EST
DTSTART:20221106T060000
END:STANDARD
BEGIN:DAYLIGHT
TZOFFSETFROM:-0500
TZOFFSETTO:-0400
TZNAME:EDT
DTSTART:20230312T070000
END:DAYLIGHT
BEGIN:STANDARD
TZOFFSETFROM:-0400
TZOFFSETTO:-0500
TZNAME:EST
DTSTART:20231105T060000
END:STANDARD
END:VTIMEZONE
BEGIN:VEVENT
DTSTART;VALUE=DATE:20220518
DTEND;VALUE=DATE:20220519
DTSTAMP:20260421T163632
CREATED:20220509T134227Z
LAST-MODIFIED:20220509T134227Z
UID:2585-1652832000-1652918399@musicforhumanity.org
SUMMARY:Hudson Valley Gives - Matching Donations
DESCRIPTION:Give where you live!\nMay 18\, 2022\nCelebration of Success Party\nToast your nonprofit’s success by joining us at our HV Gives Celebration from 4:00 to 7:00 p.m. at Billy Joe’s Ribworks in Newburgh. In addition to enjoying appetizers courtesy of Billy Joe’s and a cash bar featuring HV Gives Charity Wit\, you can root your nonprofit on as generous prizes are awarded from Healey Brothers and Resorts World Catskills! \nQ. What is Giving Day?\nGiving Day is a day of giving fueled by the power of social media and collaboration. Giving Day is an initiative of Community Foundation of Orange and Sullivan. \n\nQ. When is Giving Day?\nGiving Day is on May 18th\, 2022 from midnight to 11:59 PM. \n\nQ. Which organizations can participate?\nOrganizations that are verified 501( c )(3) charitable nonprofits that are headquartered or provide services in your community. \n\nQ. Who can donate?\nAnyone may donate. Donations through the Giving Day online portal to charitable nonprofit organizations are tax-deductible and cannot be refunded. Contributions may be made via credit and debit card only. Donations will be received and receipted by GiveGab. \n\nQ. What is GiveGab?\nGiveGab is a nonprofit giving platform that helps nonprofits to raise money\, engage donors and manage volunteers quickly and efficiently. GiveGab offers a full portfolio of simple and easy to use products that allows organizations to function in a more streamlined manner. \n\nQ. How will donations be distributed?\nEach donation made to a participating nonprofit will be disbursed directly from GiveGab via direct deposit within 5-7 business days. \n\nQ. How much of my donation goes to the nonprofit?\nFor all online donations\, there is a 3% campaign management fee from all donations. Credit Card processing fees are an additional 2.5% + $0.30 for all major credit cards (Visa\, MasterCard\, American Express\, and Discover). You are given the option to cover the fees and if you choose this option\, 100% of your online charitable gift will go to the receiving organization. All donations are final and cannot be refunded. Any donations processed outside of Giving Day donation period\, through GiveGab.com\, or subsequent recurring donations are subject to transaction fees outlined on the GiveGab.com pricing page: http://info.givegab.com/pricing.
URL:https://musicforhumanity.org/event/hudson-valley-gives-matching-donations/
LOCATION:Online
ATTACH;FMTTYPE=image/jpeg:https://musicforhumanity.org/wp-content/uploads/2022/05/hvgives-header.jpg
END:VEVENT
BEGIN:VEVENT
DTSTART;TZID=America/New_York:20220416T193000
DTEND;TZID=America/New_York:20220416T220000
DTSTAMP:20260421T163632
CREATED:20220331T154153Z
LAST-MODIFIED:20220331T154153Z
UID:2509-1650137400-1650146400@musicforhumanity.org
SUMMARY:138th Music for Humanity Free Performance Night
DESCRIPTION:On the 3rd Saturday of each month for over 11 years we’ve invited 2-3 local/regional artists to share their music (both originals & covers). For Saturday April 16th our performers are Loretta Hagen\, Ed Seifert & the Stimulus Package\, and Tony Christopher. Guaranteed to be an outstanding evening of music. “Sound Wizardry” by Jim Elwell. If you love to listen to great music in a small intimate venue (40-60 people) please join us. Noble Coffee Roasters will serve a light dinner menu and great coffees\, teas & desserts. We start promptly at 7:30\, but recommend you arrive by 7PM for a seat. This is a free event. We ask for donations\, but if you’re feeling financially stressed please join us for free & let the music work it’s magic… it will.
URL:https://musicforhumanity.org/event/138th-music-for-humanity-free-performance-night/
LOCATION:Noble Coffee Roasters\, 3020 NY-207\, Campbell Hall\, NY\, 10916\, United States
ATTACH;FMTTYPE=image/jpeg:https://musicforhumanity.org/wp-content/uploads/2022/03/Ed-Seifert-the-Stimulus-Package-Loretta-Tony-scaled.jpg
END:VEVENT
BEGIN:VEVENT
DTSTART;TZID=America/New_York:20220326T200000
DTEND;TZID=America/New_York:20220326T220000
DTSTAMP:20260421T163632
CREATED:20220327T040000Z
LAST-MODIFIED:20220326T142905Z
UID:2280-1648324800-1648332000@musicforhumanity.org
SUMMARY:The Extraordinary Journey of Jason Miles-A Musical Biography
DESCRIPTION:Jason Miles\, Grammy Winning Artist\, with almost 50 years in the music industry has some incredible music & stories to share. He’s worked with Miles Davis\, Roberta Flack\, Luther Vandross\, Chaka Khan\, Marcus Miller\, David Sanborn & many others. Jason is donating this concert as a fund raiser for Music for Humanity.  We only have 50 tickets for this event. Jason will share both his music and a glimpse into some of those stories. If you can’t make the event please consider the options at this link: https://sonicly.com//Projects/Experience/910/2095 There are still some tickets available at the door. Noble Coffee Roasters will serve a light dinner menu plus they offer a great selection of coffees\, teas & desserts. Sound by Jim Elwell. Suggested donation $20 – $50\, but you can choose your own donation. And if you are financially stressed join us for free.
URL:https://musicforhumanity.org/event/the-extraordinary-journey-of-jason-miles-a-musical-biography/
LOCATION:Noble Coffee Roasters\, 3020 NY-207\, Campbell Hall\, NY\, 10916\, United States
ATTACH;FMTTYPE=image/jpeg:https://musicforhumanity.org/wp-content/uploads/2022/02/Jason-Miles-Journey.jpg
END:VEVENT
BEGIN:VEVENT
DTSTART;TZID=America/New_York:20220319T193000
DTEND;TZID=America/New_York:20220319T220000
DTSTAMP:20260421T163632
CREATED:20220320T033000Z
LAST-MODIFIED:20220303T195546Z
UID:2393-1647718200-1647727200@musicforhumanity.org
SUMMARY:137th Music for Humanity Free Performance Night
DESCRIPTION:On the 3rd Saturday for over 11 years we have invited 2-3 outstanding local/regional artists to share their music (both originals & covers). Our performers for March 19th are Marc Von Em\, John Irizarry and Lydia Adams Davis. If you love to see live music in a small setting (50-75 people) you’ll love this event. Save the date & join us. Our “sound wizard” Jim Elwell makes everyone sound their best.\n\nThis is a free event. We ask for donations\, but if you’re feeling financially stressed please join us for free & let the music work it’s magic… it will. We start promptly at 7:30\, but recommend you arriver by 7PM for a seat. Noble Coffee Roasters serves a light dinner menu plus great coffees\, teas and desserts.
URL:https://musicforhumanity.org/event/137th-music-for-humanity-free-performance-night/
LOCATION:Noble Coffee Roasters\, 3020 NY-207\, Campbell Hall\, NY\, 10916\, United States
ATTACH;FMTTYPE=image/jpeg:https://musicforhumanity.org/wp-content/uploads/2022/03/Marc-Von-Em-Lydia-Adams-Davis-John-Irizarry.jpg
END:VEVENT
BEGIN:VEVENT
DTSTART;TZID=America/New_York:20220219T193000
DTEND;TZID=America/New_York:20220219T220000
DTSTAMP:20260421T163632
CREATED:20220220T053000Z
LAST-MODIFIED:20220124T151106Z
UID:2263-1645299000-1645308000@musicforhumanity.org
SUMMARY:136th Music for Humanity Free Performance Night
DESCRIPTION:On the 3rd Saturday for over 11 years we have invited 2-3 outstanding local/regional artists to share their music (both originals & covers). Our performers for Feb. 19th are Chris Raabe\, Dead End Beverly and Thom Joyce. If you love to see live music in a small setting (50-75 people) you’ll love this event. Save the date & join us. Our “sound wizard” Jim Elwell makes everyone sound their best.\n\nThis is a free event. We ask for donations\, but if you’re feeling financially stressed please join us for free & let the music work it’s magic… it will. We start promptly at 7:30\, but recommend you arriver by 7PM for a seat. Noble Coffee Roasters serves a light dinner menu plus great coffees\, teas and desserts.
URL:https://musicforhumanity.org/event/136th-music-for-humanity-free-performance-night/
LOCATION:Noble Coffee Roasters\, 3020 NY-207\, Campbell Hall\, NY\, 10916\, United States
ATTACH;FMTTYPE=image/jpeg:https://musicforhumanity.org/wp-content/uploads/2022/01/Chris-Raabe.jpg
END:VEVENT
BEGIN:VEVENT
DTSTART;TZID=America/New_York:20220115T193000
DTEND;TZID=America/New_York:20220115T220000
DTSTAMP:20260421T163632
CREATED:20220116T053000Z
LAST-MODIFIED:20220105T161925Z
UID:2248-1642275000-1642284000@musicforhumanity.org
SUMMARY:135th Music for Humanity Free Performance Night
DESCRIPTION:On the 3rd Saturday of each month (for over 11 years) we’ve invited 2-3 outstanding local/regional performers to join us and share their music (both originals & covers). For this event our performers are The Steam Drill Meddlers and Chris Harrison & Friends. It’s guaranteed to be a great evening of music. “Sound Wizard” Jim Elwell will make everyone sound their best.\n\nIf you love to listen to live music in a small venue (50-75 people) please join us. This is a free event. We ask for donations\, but if you’re feeling financially stressed\, please join us for free and let the music work its magic… it will. All donations go to our scholarship fund. We’ve given $135\,000 in music scholarships. You can see most of the winners here. Thanks for your support!!
URL:https://musicforhumanity.org/event/135th-music-for-humanity-free-performance-night/
LOCATION:Noble Coffee Roasters\, 3020 NY-207\, Campbell Hall\, NY\, 10916\, United States
ATTACH;FMTTYPE=image/jpeg:https://musicforhumanity.org/wp-content/uploads/2022/01/The-Steam-Drill-Meddlers.jpg
END:VEVENT
BEGIN:VEVENT
DTSTART;TZID=America/New_York:20211218T193000
DTEND;TZID=America/New_York:20211218T220000
DTSTAMP:20260421T163632
CREATED:20211219T050000Z
LAST-MODIFIED:20211201T201157Z
UID:2113-1639855800-1639864800@musicforhumanity.org
SUMMARY:134th Music for Humanity Free Performance Night
DESCRIPTION:This is our 134th free concert (once a month); we’re into our 12th year. \nWe recommend you arrive by 7PM for a seat. \nEach month\, on the 3rd Saturday we invite 2 or 3 outstanding local/regional performers to join us and share both original tunes and/or covers. Music starts promptly at 7:30. Noble has a light dinner menu & a great assortment of desserts\, coffees & teas. \nFor Saturday December 18th our performers are all outstanding. They are Fisher & Kean\, Brad Scribner & Scott Palermo. \n  \n\n\n\n\n\n\n\n\n\nJoin us if you love to listen to great music in an intimate venue (capacity is about 70 people). This is a free event. We ask for donations\, but if you’re feeling financially stressed please join us for free and let the music help you… it will. Our “sound wizard” Jim Elwell\, who has done the sound for all of these concerts (except one)\, makes everyone sound their best.
URL:https://musicforhumanity.org/event/134th-free-concert/
LOCATION:Noble Coffee Roasters\, 3020 NY-207\, Campbell Hall\, NY\, 10916\, United States
END:VEVENT
BEGIN:VEVENT
DTSTART;TZID=America/New_York:20211120T193000
DTEND;TZID=America/New_York:20211120T220000
DTSTAMP:20260421T163632
CREATED:20211103T192313Z
LAST-MODIFIED:20211117T164252Z
UID:1812-1637436600-1637445600@musicforhumanity.org
SUMMARY:133rd Music for Humanity Free Performance Night
DESCRIPTION:This show begins our 12th year of free concerts (once a month). This is our 133rd live monthly concert. \nWe recommend you arrive by 7PM for a seat. \nEach month\, on the 3rd Saturday we invite 2 or 3 outstanding local/regional performers to join us and share both original tunes and/or covers. Music starts promptly at 7:30. Noble has a light dinner menu & a great assortment of desserts\, coffees & teas. \nFor Saturday November 20th our performers are all outstanding singer/songwriters plus Elly Wininger is a member of the New York Blues Hall of Fame. Join us if you love to listen to great music. This is a free event. We ask for donations\, but if you’re feeling financially stressed please join us for free and let the music help you… it will. Our “sound wizard” Jim Elwell\, who has done the sound for 131 shows\, makes everyone sound their best. \nDon Lowe\n \nElly Wininger\n \nSteve Kirkman\n\n  \nMusic for Humanity exists to help spread more music throughout the world . We believe more music means a better world for everyone. We are a 501c-3 Charity and all donations are tax-deductible. \nIf we all give a little we can make a big difference in the lives of young aspiring musicians. We’ve given $135\,000 in music scholarship. See the scholarship winners here. If you can’t make the event get the latest news by joining our email list here and subscribe to our YouTube channel here. We’ll post videos of the event. \nPlease consider making a tax-deductible donation by clicking here or send a check to: \nMusic for Humanity\nPOB 359\nChester\, NY 10918 \nThanks for your generosity!
URL:https://musicforhumanity.org/event/133rd-music-for-humanity-free-performance-night/
LOCATION:Noble Coffee Roasters\, 3020 NY-207\, Campbell Hall\, NY\, 10916\, United States
END:VEVENT
END:VCALENDAR